BEGIN:VCALENDAR
VERSION:2.0
PRODID:-//Dons de gamètes solidaires - ECPv6.15.20//NONSGML v1.0//EN
CALSCALE:GREGORIAN
METHOD:PUBLISH
X-ORIGINAL-URL:https://donsdegametes-solidaires.fr
X-WR-CALDESC:Évènements pour Dons de gamètes solidaires
REFRESH-INTERVAL;VALUE=DURATION:PT1H
X-Robots-Tag:noindex
X-PUBLISHED-TTL:PT1H
BEGIN:VTIMEZONE
TZID:Europe/Paris
BEGIN:DAYLIGHT
TZOFFSETFROM:+0100
TZOFFSETTO:+0200
TZNAME:CEST
DTSTART:20230326T010000
END:DAYLIGHT
BEGIN:STANDARD
TZOFFSETFROM:+0200
TZOFFSETTO:+0100
TZNAME:CET
DTSTART:20231029T010000
END:STANDARD
BEGIN:DAYLIGHT
TZOFFSETFROM:+0100
TZOFFSETTO:+0200
TZNAME:CEST
DTSTART:20240331T010000
END:DAYLIGHT
BEGIN:STANDARD
TZOFFSETFROM:+0200
TZOFFSETTO:+0100
TZNAME:CET
DTSTART:20241027T010000
END:STANDARD
BEGIN:DAYLIGHT
TZOFFSETFROM:+0100
TZOFFSETTO:+0200
TZNAME:CEST
DTSTART:20250330T010000
END:DAYLIGHT
BEGIN:STANDARD
TZOFFSETFROM:+0200
TZOFFSETTO:+0100
TZNAME:CET
DTSTART:20251026T010000
END:STANDARD
END:VTIMEZONE
BEGIN:VEVENT
DTSTART;TZID=Europe/Paris:20241011T090000
DTEND;TZID=Europe/Paris:20241011T170000
DTSTAMP:20260420T201409
CREATED:20240902T063902Z
LAST-MODIFIED:20240903T110407Z
UID:11775-1728637200-1728666000@donsdegametes-solidaires.fr
SUMMARY:Colloque 30 ans des lois de Bioéthique
DESCRIPTION:Colloque 30 ans des lois de Bioéthique organisé en collaboration avec l’Espace de Réflexion Éthique de Bretagne \nLien : https://www.espace-ethique-normandie.fr/15689/ \nLieu : Saint Malo\nDate : 11 octobre 2024\nTarif : gratuit \nDescription : A l’occasion des 30 ans des lois de Bioéthique de 1994\, l’Espace de Réflexion Ethique de Normandie et l’Espace de Réflexion Éthique de Bretagne se sont réunis pour proposer un colloque sur sur la place de la bioéthique face au progrés scientifique et aux demandes sociales. Quelles conséquences l’évolution des lois de bioéthique ont-elles eu\, ont-elles ou auront-elles demain sur la société\, les patients\, les professionnels et les citoyens ? Quelles questions se posent aujourd’hui ? \n \nNormandie-Bretagne-v2 \nFlyer_Programme_Final-2
URL:https://donsdegametes-solidaires.fr/event/colloque-30-ans-des-lois-de-bioethique/
END:VEVENT
END:VCALENDAR