BEGIN:VCALENDAR
VERSION:2.0
PRODID:-//Dons de gamètes solidaires - ECPv6.15.20//NONSGML v1.0//EN
CALSCALE:GREGORIAN
METHOD:PUBLISH
X-ORIGINAL-URL:https://donsdegametes-solidaires.fr
X-WR-CALDESC:Évènements pour Dons de gamètes solidaires
REFRESH-INTERVAL;VALUE=DURATION:PT1H
X-Robots-Tag:noindex
X-PUBLISHED-TTL:PT1H
BEGIN:VTIMEZONE
TZID:Europe/Paris
BEGIN:DAYLIGHT
TZOFFSETFROM:+0100
TZOFFSETTO:+0200
TZNAME:CEST
DTSTART:20210328T010000
END:DAYLIGHT
BEGIN:STANDARD
TZOFFSETFROM:+0200
TZOFFSETTO:+0100
TZNAME:CET
DTSTART:20211031T010000
END:STANDARD
BEGIN:DAYLIGHT
TZOFFSETFROM:+0100
TZOFFSETTO:+0200
TZNAME:CEST
DTSTART:20220327T010000
END:DAYLIGHT
BEGIN:STANDARD
TZOFFSETFROM:+0200
TZOFFSETTO:+0100
TZNAME:CET
DTSTART:20221030T010000
END:STANDARD
BEGIN:DAYLIGHT
TZOFFSETFROM:+0100
TZOFFSETTO:+0200
TZNAME:CEST
DTSTART:20230326T010000
END:DAYLIGHT
BEGIN:STANDARD
TZOFFSETFROM:+0200
TZOFFSETTO:+0100
TZNAME:CET
DTSTART:20231029T010000
END:STANDARD
END:VTIMEZONE
BEGIN:VEVENT
DTSTART;VALUE=DATE:20220530
DTEND;VALUE=DATE:20220531
DTSTAMP:20260423T015407
CREATED:20211124T130105Z
LAST-MODIFIED:20220523T194703Z
UID:8473-1653868800-1653955199@donsdegametes-solidaires.fr
SUMMARY:Journée mondiale consacrée au droit à connaître ses origines
DESCRIPTION:Depuis 2014\, il existe une journée mondiale consacrée au droit à connaître ses origines. Ce sont les collectifs d’enfants nés sous X qui ont initié cette mobilisation. Cette journée a été fixée le 30 mai.
URL:https://donsdegametes-solidaires.fr/event/journee-mondiale-consacree-au-droit-a-connaitre-ses-origines/
END:VEVENT
BEGIN:VEVENT
DTSTART;TZID=Europe/Paris:20220531T150000
DTEND;TZID=Europe/Paris:20220531T153000
DTSTAMP:20260423T015407
CREATED:20220526T081321Z
LAST-MODIFIED:20220526T081742Z
UID:9482-1654009200-1654011000@donsdegametes-solidaires.fr
SUMMARY:Approche psychosociales des controverses autour de l'anonymat du don de gamètes
DESCRIPTION:Titre : Approches psychosociales des controverses autour de l’anonymat du don de gamètes : le statu quo parlementaire face aux contestations publiques. \nAuteur : Marjolaine DOUMERGUE\, Maitresse de conférence en psychologie sociale\, Université Lyon 2\, GRePS. \nRésumé :  \nChaque révision de la loi relative à la bioéthique suscite un débat politique et social dans l’espace et la communication publics. Cette communication se penche sur l’analyse de cette arène de discours lors de la révision de la loi relative à la bioéthique de 2011\, afin d’appréhender ce que les parlementaires ont mobilisé en termes de représentations sociales pour se positionner quant à ces questions socialement importantes. Au-delà de l’appréhension de la bioéthique\, elle se concentre sur la manière dont a été pensée et discutée la question de l’anonymat du don de gamètes dont le principe a été légalement maintenu en 2011\, alors qu’il avait été au coeur de vives contestations publiques depuis le milieu des années 2000. \nMots clés : bioéthique\, nouvelles technologies\, don\, parentés\, représentations sociales. \nTélécharger le PDF de la journée \nLieu : 14° Journée du GRePS\nIUT Lumière Lyon 2\,\nBâtiment 1\, Amphithéâtre : Salle de conférence\n160 Bd de l’Université\, 69500 Bron \nSite Internet : https://greps.univ-lyon2.fr/evenements-manifestations/14e-journee-du-greps-le-changement-social
URL:https://donsdegametes-solidaires.fr/event/approche-psychosociales-des-controverses-autour-de-lanonymat-du-don-de-gametes/
END:VEVENT
END:VCALENDAR