BEGIN:VCALENDAR
VERSION:2.0
PRODID:-//Dons de gamètes solidaires - ECPv6.15.20//NONSGML v1.0//EN
CALSCALE:GREGORIAN
METHOD:PUBLISH
X-WR-CALNAME:Dons de gamètes solidaires
X-ORIGINAL-URL:https://donsdegametes-solidaires.fr
X-WR-CALDESC:Évènements pour Dons de gamètes solidaires
REFRESH-INTERVAL;VALUE=DURATION:PT1H
X-Robots-Tag:noindex
X-PUBLISHED-TTL:PT1H
BEGIN:VTIMEZONE
TZID:Europe/Paris
BEGIN:DAYLIGHT
TZOFFSETFROM:+0100
TZOFFSETTO:+0200
TZNAME:CEST
DTSTART:20200329T010000
END:DAYLIGHT
BEGIN:STANDARD
TZOFFSETFROM:+0200
TZOFFSETTO:+0100
TZNAME:CET
DTSTART:20201025T010000
END:STANDARD
BEGIN:DAYLIGHT
TZOFFSETFROM:+0100
TZOFFSETTO:+0200
TZNAME:CEST
DTSTART:20210328T010000
END:DAYLIGHT
BEGIN:STANDARD
TZOFFSETFROM:+0200
TZOFFSETTO:+0100
TZNAME:CET
DTSTART:20211031T010000
END:STANDARD
BEGIN:DAYLIGHT
TZOFFSETFROM:+0100
TZOFFSETTO:+0200
TZNAME:CEST
DTSTART:20220327T010000
END:DAYLIGHT
BEGIN:STANDARD
TZOFFSETFROM:+0200
TZOFFSETTO:+0100
TZNAME:CET
DTSTART:20221030T010000
END:STANDARD
END:VTIMEZONE
BEGIN:VEVENT
DTSTART;TZID=Europe/Paris:20211007T100000
DTEND;TZID=Europe/Paris:20211008T160000
DTSTAMP:20260423T135026
CREATED:20211001T205727Z
LAST-MODIFIED:20211001T205855Z
UID:8027-1633600800-1633708800@donsdegametes-solidaires.fr
SUMMARY:Les Journées de l’Agence de la biomédecine 2021
DESCRIPTION:Les Journées de l’Agence de la biomédecine auront lieu les jeudi 7 et vendredi 8 octobre 2021\, en format dématérialisé.\nLa loi relative à la bioéthique\, promulguée le 2 août dernier\, constituera le fil rouge de la sixième édition de nos Journées.\nCes deux jours seront ainsi l’occasion d’échanger ensemble sur les adaptations des pratiques médicales et scientifiques apportées par la loi dans les domaines de l’assistance médicale à la procréation\, la génétique et la recherche sur l’embryon humain et les cellules souches embryonnaires humaines\, ainsi que le prélèvement et la greffe d’organes\, de tissus et de cellules. \nLien : https://www.journees-agence-biomedecine.fr/ \nProgramme des journées de l’Agence de la biomédecine 2021 (PDF)
URL:https://donsdegametes-solidaires.fr/event/les-journees-de-lagence-de-la-biomedecine-2021/
END:VEVENT
BEGIN:VEVENT
DTSTART;TZID=Europe/Paris:20211014T140000
DTEND;TZID=Europe/Paris:20211015T160000
DTSTAMP:20260423T135026
CREATED:20211001T210919Z
LAST-MODIFIED:20211001T211403Z
UID:8031-1634220000-1634313600@donsdegametes-solidaires.fr
SUMMARY:Regards croisés sur la loi de bioéthique 2021
DESCRIPTION:Le colloque réunit tous les acteurs institutionnels de cette mutation (parlementaires\, CCNE\, ABM\, Conseil d’Etat\, Académie de médecine…) pour une analyse pluridisciplinaire du droit (juristes\, médecins\, sociologues\, philosophes et anthropologues). \nLa loi de « bioéthique » adoptée par le Parlement en juin 2021\, en gestation depuis quatre ans\, a connu une phase de larges consultations puis des débats parlementaires clivés. \nElle refond le droit de la procréation en étendant l’accès aux techniques aux femmes\, seules ou en couple\, affectant le droit de la filiation\, le don et la conservation des gamètes ainsi que l’accès aux origines des personnes issues d’un don. Mais elle a aussi modifié significativement d’autres pans du droit comme le régime des cellules souches\, des données génétiques\, du don d’éléments du corps humain\, …  \nProgramme (PDF) \nLien : https://eddroit.ut-capitole.fr/ifr21-colloque-regards-croises-sur-la-loi-de-bioethique-2021-ere-chaire-unesco-imh-907121.kjsp
URL:https://donsdegametes-solidaires.fr/event/regards-croises-sur-la-loi-de-bioethique-2021/
END:VEVENT
BEGIN:VEVENT
DTSTART;TZID=Europe/Paris:20211020T093000
DTEND;TZID=Europe/Paris:20211020T173000
DTSTAMP:20260423T135026
CREATED:20211001T202549Z
LAST-MODIFIED:20211101T001209Z
UID:8021-1634722200-1634751000@donsdegametes-solidaires.fr
SUMMARY:Loi de bioéthique du 2 août 2021. Quel impact sur nos vies ?
DESCRIPTION:Ce colloque est organisé par :\n– L’Académie nationale de Médecine\n– L’Université de Paris (Paris Descartes)\, Institut Droit et Santé\, UMR_S 1145\n– Le Comité éthique et cancer \nProgramme du colloque (PDF) \nLien : https://www.academie-medecine.fr/agenda/journee-sur-la-loi-de-bioethique-2021/ \n \n—  \nQuelques captures d’écrans de la présentation sur le droit d’accès aux origines.
URL:https://donsdegametes-solidaires.fr/event/loi-de-bioethique-du-2-aout-2021-quel-impact-sur-nos-vies/
END:VEVENT
END:VCALENDAR