BEGIN:VCALENDAR
VERSION:2.0
PRODID:-//Dons de gamètes solidaires - ECPv6.15.20//NONSGML v1.0//EN
CALSCALE:GREGORIAN
METHOD:PUBLISH
X-ORIGINAL-URL:https://donsdegametes-solidaires.fr
X-WR-CALDESC:Évènements pour Dons de gamètes solidaires
REFRESH-INTERVAL;VALUE=DURATION:PT1H
X-Robots-Tag:noindex
X-PUBLISHED-TTL:PT1H
BEGIN:VTIMEZONE
TZID:Europe/Paris
BEGIN:DAYLIGHT
TZOFFSETFROM:+0100
TZOFFSETTO:+0200
TZNAME:CEST
DTSTART:20190331T010000
END:DAYLIGHT
BEGIN:STANDARD
TZOFFSETFROM:+0200
TZOFFSETTO:+0100
TZNAME:CET
DTSTART:20191027T010000
END:STANDARD
BEGIN:DAYLIGHT
TZOFFSETFROM:+0100
TZOFFSETTO:+0200
TZNAME:CEST
DTSTART:20200329T010000
END:DAYLIGHT
BEGIN:STANDARD
TZOFFSETFROM:+0200
TZOFFSETTO:+0100
TZNAME:CET
DTSTART:20201025T010000
END:STANDARD
BEGIN:DAYLIGHT
TZOFFSETFROM:+0100
TZOFFSETTO:+0200
TZNAME:CEST
DTSTART:20210328T010000
END:DAYLIGHT
BEGIN:STANDARD
TZOFFSETFROM:+0200
TZOFFSETTO:+0100
TZNAME:CET
DTSTART:20211031T010000
END:STANDARD
END:VTIMEZONE
BEGIN:VEVENT
DTSTART;TZID=Europe/Paris:20201118T090000
DTEND;TZID=Europe/Paris:20201118T180000
DTSTAMP:20260424T084430
CREATED:20200409T204359Z
LAST-MODIFIED:20201030T152030Z
UID:2990-1605690000-1605722400@donsdegametes-solidaires.fr
SUMMARY:Colloque bioéthique
DESCRIPTION:L’Institut Droit et Santé (IDS) a le plaisir de vous inviter au colloque\, organisé en partenariat avec l’Académie de Médecine\, sur le thème de la « bioéthique » qui aura lieu le mercredi 18 novembre 2020. \nIl est co-organisé par :\n– Claudine Bergoignan Esper\, Membre de l’Académie Nationale de Médecine et Professeur honoraire\, Université de Paris\, Faculté de droit\, d’économie et de gestion\n– Ana Zelcevic-Duhamel\, Maître de conférences HDR en droit privé à la Faculté de droit\, d’économie et de gestion de l’Université de Paris \nAdresse : Académie nationale de médecine – 16\, rue Bonaparte – Paris 6e\nDate : Le 18 novembre 2020 de 09h00 à 18h00 \nhttp://www.institutdroitsante.fr/manifestations/colloque-sur-le-theme-de-la-bioethique \n—- \nRemarque du 29 octobre 2020 : La page du colloque a disparu. Il est probable que l’événement ait été annulé.
URL:https://donsdegametes-solidaires.fr/event/colloque-bioethiqu/
LOCATION:Académie nationale de médecine – 16\, rue Bonaparte – Paris 6e
END:VEVENT
BEGIN:VEVENT
DTSTART;TZID=Europe/Paris:20201118T170000
DTEND;TZID=Europe/Paris:20201118T183000
DTSTAMP:20260424T084430
CREATED:20201030T152348Z
LAST-MODIFIED:20201030T152520Z
UID:5974-1605718800-1605724200@donsdegametes-solidaires.fr
SUMMARY:De mère en FIV\, comment conjuguer principes éthiques et PMA ?
DESCRIPTION:La Mutualité Française de Bretagne organisera le 18 novembre 2020\, une table ronde pour aborder le volet PMA du projet de loi bioéthique\, et notamment les questions identitaires liées aux nouvelles modalités d’accès à la PMA\, et les conditions pour en faire une avancée sociétale (avec le respect de principes éthiques).\nLa table ronde réunira Irène Théry\, sociologue\, Cyril Hazif-Thomas\, Directeur de l’EREB (Espace Régional Ethique de Bretagne)\, et Camille CHAPIN-DERENNES (Présidente de l’association Procréation Médicalement Anonyme).\nCette table-ronde sera animée par Céline Astruc-Secheret pour « Ouest-France Communication. \nCet événement devait initialement se tenir en mars mais à cause de la crise sanitaire\, il a été reporté.
URL:https://donsdegametes-solidaires.fr/event/de-mere-en-fiv-comment-conjuguer-principes-ethiques-et-pma/
END:VEVENT
END:VCALENDAR