BEGIN:VCALENDAR
VERSION:2.0
PRODID:-//Dons de gamètes solidaires - ECPv6.15.20//NONSGML v1.0//EN
CALSCALE:GREGORIAN
METHOD:PUBLISH
X-ORIGINAL-URL:https://donsdegametes-solidaires.fr
X-WR-CALDESC:Évènements pour Dons de gamètes solidaires
REFRESH-INTERVAL;VALUE=DURATION:PT1H
X-Robots-Tag:noindex
X-PUBLISHED-TTL:PT1H
BEGIN:VTIMEZONE
TZID:Europe/Paris
BEGIN:DAYLIGHT
TZOFFSETFROM:+0100
TZOFFSETTO:+0200
TZNAME:CEST
DTSTART:20230326T010000
END:DAYLIGHT
BEGIN:STANDARD
TZOFFSETFROM:+0200
TZOFFSETTO:+0100
TZNAME:CET
DTSTART:20231029T010000
END:STANDARD
BEGIN:DAYLIGHT
TZOFFSETFROM:+0100
TZOFFSETTO:+0200
TZNAME:CEST
DTSTART:20240331T010000
END:DAYLIGHT
BEGIN:STANDARD
TZOFFSETFROM:+0200
TZOFFSETTO:+0100
TZNAME:CET
DTSTART:20241027T010000
END:STANDARD
BEGIN:DAYLIGHT
TZOFFSETFROM:+0100
TZOFFSETTO:+0200
TZNAME:CEST
DTSTART:20250330T010000
END:DAYLIGHT
BEGIN:STANDARD
TZOFFSETFROM:+0200
TZOFFSETTO:+0100
TZNAME:CET
DTSTART:20251026T010000
END:STANDARD
END:VTIMEZONE
BEGIN:VEVENT
DTSTART;VALUE=DATE:20241217
DTEND;VALUE=DATE:20241218
DTSTAMP:20260420T184006
CREATED:20241114T131105Z
LAST-MODIFIED:20241124T160831Z
UID:11968-1734393600-1734479999@donsdegametes-solidaires.fr
SUMMARY:30 ans de lois de bioéthique : quelles incidences en droit de la famille ?
DESCRIPTION:Titre du colloque : « 30 ans de lois de bioéthique : quelles incidences en droit de la famille ? » \nDate : 17 décembre 2024 \nLieu : Faculté Jean Monnet (Droit\, Économie\, Management) – Université Paris-Saclay \nIntervenants : Laurence Brunet\, Lisa Carayon\, Marc Pichard\, Maïté Saulier et Catherine CLAVIN
URL:https://donsdegametes-solidaires.fr/event/30-ans-de-lois-de-bioethique-quelles-incidences-en-droit-de-la-famille/
END:VEVENT
END:VCALENDAR