BEGIN:VCALENDAR
VERSION:2.0
PRODID:-//Dons de gamètes solidaires - ECPv6.15.20//NONSGML v1.0//EN
CALSCALE:GREGORIAN
METHOD:PUBLISH
X-WR-CALNAME:Dons de gamètes solidaires
X-ORIGINAL-URL:https://donsdegametes-solidaires.fr
X-WR-CALDESC:Évènements pour Dons de gamètes solidaires
REFRESH-INTERVAL;VALUE=DURATION:PT1H
X-Robots-Tag:noindex
X-PUBLISHED-TTL:PT1H
BEGIN:VTIMEZONE
TZID:Europe/Paris
BEGIN:DAYLIGHT
TZOFFSETFROM:+0100
TZOFFSETTO:+0200
TZNAME:CEST
DTSTART:20220327T010000
END:DAYLIGHT
BEGIN:STANDARD
TZOFFSETFROM:+0200
TZOFFSETTO:+0100
TZNAME:CET
DTSTART:20221030T010000
END:STANDARD
BEGIN:DAYLIGHT
TZOFFSETFROM:+0100
TZOFFSETTO:+0200
TZNAME:CEST
DTSTART:20230326T010000
END:DAYLIGHT
BEGIN:STANDARD
TZOFFSETFROM:+0200
TZOFFSETTO:+0100
TZNAME:CET
DTSTART:20231029T010000
END:STANDARD
BEGIN:DAYLIGHT
TZOFFSETFROM:+0100
TZOFFSETTO:+0200
TZNAME:CEST
DTSTART:20240331T010000
END:DAYLIGHT
BEGIN:STANDARD
TZOFFSETFROM:+0200
TZOFFSETTO:+0100
TZNAME:CET
DTSTART:20241027T010000
END:STANDARD
END:VTIMEZONE
BEGIN:VEVENT
DTSTART;TZID=Europe/Paris:20230624T100000
DTEND;TZID=Europe/Paris:20230624T120000
DTSTAMP:20260422T014644
CREATED:20230529T124228Z
LAST-MODIFIED:20230529T124906Z
UID:10207-1687600800-1687608000@donsdegametes-solidaires.fr
SUMMARY:« La procréation\, en-quête de ses origines »
DESCRIPTION:CONFÉRENCE  \nDate : Samedi 24 Juin – 10h  \nDurée : 1h30 \nLieu : Château de la Fontaine\, allée des 2 lions\, 59170 CROIX \nTout public – 100 places  \nINSCRIPTION (GRATUITE) – https://www.eventbrite.fr/e/billets-la-procreation-en-quete-de-ses-origines-636180612337 \nPauline Tiberghien – Née sous X en 1970\, abandonnée à la naissance puis adoptée\, sans possibilité de connaître ses origines\, Pauline s’est battue toute sa vie pour retrouver la trace de ses parents biologiques\, par tous les moyens\, légaux comme illégaux. Docteure en médecine de la reproduction et obstétricienne\, elle fonde en 2004 l’association PMAnonyme\, qui obtient en 2021 une importante victoire avec la levée de l’anonymat des donneurs de gamètes. \nUn récit haletant sur la quête et l’enquête de ses origines\, qui ont animé sa vie pendant plus de 20 ans\, ainsi que son combat avec l’association qu’elle a créée. Cette force de la colère qui fait déplacer des montagnes est le feu sacré de Pauline Tiberghien\, afin que tous les enfants de personne et de nulle part\, abandonnés “pour leur bien” ou issus de dons de gamètes\, puissent avoir accès à leurs origines. “Je ressens dans ma chair cette blessure d’être née sous X\, et je ne voulais pas connaître la douleur de mourir sous X”.  \nPauline partage son combat pour que le droit à l’enfant ne remplace pas le droit de l’enfant.
URL:https://donsdegametes-solidaires.fr/event/la-procreation-en-quete-de-ses-origines/
END:VEVENT
END:VCALENDAR