BEGIN:VCALENDAR
VERSION:2.0
PRODID:-//Dons de gamètes solidaires - ECPv6.15.20//NONSGML v1.0//EN
CALSCALE:GREGORIAN
METHOD:PUBLISH
X-WR-CALNAME:Dons de gamètes solidaires
X-ORIGINAL-URL:https://donsdegametes-solidaires.fr
X-WR-CALDESC:Évènements pour Dons de gamètes solidaires
REFRESH-INTERVAL;VALUE=DURATION:PT1H
X-Robots-Tag:noindex
X-PUBLISHED-TTL:PT1H
BEGIN:VTIMEZONE
TZID:Europe/Paris
BEGIN:DAYLIGHT
TZOFFSETFROM:+0100
TZOFFSETTO:+0200
TZNAME:CEST
DTSTART:20220327T010000
END:DAYLIGHT
BEGIN:STANDARD
TZOFFSETFROM:+0200
TZOFFSETTO:+0100
TZNAME:CET
DTSTART:20221030T010000
END:STANDARD
BEGIN:DAYLIGHT
TZOFFSETFROM:+0100
TZOFFSETTO:+0200
TZNAME:CEST
DTSTART:20230326T010000
END:DAYLIGHT
BEGIN:STANDARD
TZOFFSETFROM:+0200
TZOFFSETTO:+0100
TZNAME:CET
DTSTART:20231029T010000
END:STANDARD
BEGIN:DAYLIGHT
TZOFFSETFROM:+0100
TZOFFSETTO:+0200
TZNAME:CEST
DTSTART:20240331T010000
END:DAYLIGHT
BEGIN:STANDARD
TZOFFSETFROM:+0200
TZOFFSETTO:+0100
TZNAME:CET
DTSTART:20241027T010000
END:STANDARD
END:VTIMEZONE
BEGIN:VEVENT
DTSTART;TZID=Europe/Paris:20230317T173000
DTEND;TZID=Europe/Paris:20230317T190000
DTSTAMP:20260422T090722
CREATED:20230308T081753Z
LAST-MODIFIED:20230308T082550Z
UID:9958-1679074200-1679079600@donsdegametes-solidaires.fr
SUMMARY:Théâtre - Débat : Enjeux éthiques autour de la PMA
DESCRIPTION:Un nouveau spectacle théâtre-débat sur le ton de l’humour et du décalage. \n \nLes conférences improvisées : enjeux éthiques autour de la PMA (Procréation Médicalement Assistée) \nSpectacle interactif avec la troupe d’improvisation des Once a poney time qui engagera\, sur le ton de l’humour et du décalage\, des réflexions sur les enjeux éthiques autour de la PMA.\nUne fois sur scène\, une équipe de comédiens enfile les costumes de « spécialistes » le temps d’une soirée pour animer un débat à leur manière.\nA la fin de chaque impro\, avec un sérieux désopilant\, les experts débriefent sur la situation improvisée et se servent de l’imaginaire pour ouvrir le débat.\nIls dramatisent pour dédramatiser ! \nSpectacle suivi d’un débat avec des membres de l’EREGE :\nBéatrice Delépine\,Biologiste en médecine de la reproduction\nAnne Gilson\, spécialiste en droit de la bioéthique\nMédiathèque J Falala Reims \nInscription souhaitée (https://webquest.fr/?m=204583_inscriptions-theatre-debat-la-conference-improvisee-enjeux-ethiques-autour-de-la-pma) ou rfrancois@chu-reims.fr ou aandruchiw@chu-reims.fr
URL:https://donsdegametes-solidaires.fr/event/theatre-debat-enjeux-ethiques-autour-de-la-pma/
END:VEVENT
END:VCALENDAR