BEGIN:VCALENDAR
VERSION:2.0
PRODID:-//Dons de gamètes solidaires - ECPv6.15.20//NONSGML v1.0//EN
CALSCALE:GREGORIAN
METHOD:PUBLISH
X-ORIGINAL-URL:https://donsdegametes-solidaires.fr
X-WR-CALDESC:Évènements pour Dons de gamètes solidaires
REFRESH-INTERVAL;VALUE=DURATION:PT1H
X-Robots-Tag:noindex
X-PUBLISHED-TTL:PT1H
BEGIN:VTIMEZONE
TZID:Europe/Paris
BEGIN:DAYLIGHT
TZOFFSETFROM:+0100
TZOFFSETTO:+0200
TZNAME:CEST
DTSTART:20210328T010000
END:DAYLIGHT
BEGIN:STANDARD
TZOFFSETFROM:+0200
TZOFFSETTO:+0100
TZNAME:CET
DTSTART:20211031T010000
END:STANDARD
BEGIN:DAYLIGHT
TZOFFSETFROM:+0100
TZOFFSETTO:+0200
TZNAME:CEST
DTSTART:20220327T010000
END:DAYLIGHT
BEGIN:STANDARD
TZOFFSETFROM:+0200
TZOFFSETTO:+0100
TZNAME:CET
DTSTART:20221030T010000
END:STANDARD
BEGIN:DAYLIGHT
TZOFFSETFROM:+0100
TZOFFSETTO:+0200
TZNAME:CEST
DTSTART:20230326T010000
END:DAYLIGHT
BEGIN:STANDARD
TZOFFSETFROM:+0200
TZOFFSETTO:+0100
TZNAME:CET
DTSTART:20231029T010000
END:STANDARD
END:VTIMEZONE
BEGIN:VEVENT
DTSTART;TZID=Europe/Paris:20221103T180000
DTEND;TZID=Europe/Paris:20221103T193000
DTSTAMP:20260422T151431
CREATED:20221010T114306Z
LAST-MODIFIED:20221010T114306Z
UID:9780-1667498400-1667503800@donsdegametes-solidaires.fr
SUMMARY:AMP : révision de la loi bioéthique\, 1 an plus tard\, où en est-on ?
DESCRIPTION:Titre : AMP : révision de la loi bioéthique\, 1 an plus tard\, où en est-on? \nLien : https://medisciences.univ-tours.fr/actualite/pma-et-genre \nDATE : le 3 novembre 2022 de 18h-19h30 \nLIEU : site Tonnellé \n \nDr. Béatrice Birmelé\nMédecin\, praticienne hospitalière – HDR\nEA 7505\nEducation Ethique Santé                                            \nDr. Fabrice Guérif\nEnseignant hospitalo-universitaire\nUMR CNRS INRAE 7247\nPhysiologie de la Reproduction et des Comportements
URL:https://donsdegametes-solidaires.fr/event/amp-revision-de-la-loi-bioethique-1-an-plus-tard-ou-en-est-on/
END:VEVENT
END:VCALENDAR