BEGIN:VCALENDAR
VERSION:2.0
PRODID:-//Dons de gamètes solidaires - ECPv6.15.20//NONSGML v1.0//EN
CALSCALE:GREGORIAN
METHOD:PUBLISH
X-ORIGINAL-URL:https://donsdegametes-solidaires.fr
X-WR-CALDESC:Évènements pour Dons de gamètes solidaires
REFRESH-INTERVAL;VALUE=DURATION:PT1H
X-Robots-Tag:noindex
X-PUBLISHED-TTL:PT1H
BEGIN:VTIMEZONE
TZID:Europe/Paris
BEGIN:DAYLIGHT
TZOFFSETFROM:+0100
TZOFFSETTO:+0200
TZNAME:CEST
DTSTART:20210328T010000
END:DAYLIGHT
BEGIN:STANDARD
TZOFFSETFROM:+0200
TZOFFSETTO:+0100
TZNAME:CET
DTSTART:20211031T010000
END:STANDARD
BEGIN:DAYLIGHT
TZOFFSETFROM:+0100
TZOFFSETTO:+0200
TZNAME:CEST
DTSTART:20220327T010000
END:DAYLIGHT
BEGIN:STANDARD
TZOFFSETFROM:+0200
TZOFFSETTO:+0100
TZNAME:CET
DTSTART:20221030T010000
END:STANDARD
BEGIN:DAYLIGHT
TZOFFSETFROM:+0100
TZOFFSETTO:+0200
TZNAME:CEST
DTSTART:20230326T010000
END:DAYLIGHT
BEGIN:STANDARD
TZOFFSETFROM:+0200
TZOFFSETTO:+0100
TZNAME:CET
DTSTART:20231029T010000
END:STANDARD
END:VTIMEZONE
BEGIN:VEVENT
DTSTART;TZID=Europe/Paris:20220203T180000
DTEND;TZID=Europe/Paris:20220203T190000
DTSTAMP:20260423T084407
CREATED:20220131T085232Z
LAST-MODIFIED:20220131T085400Z
UID:9094-1643911200-1643914800@donsdegametes-solidaires.fr
SUMMARY:Evolution des modèles familiaux
DESCRIPTION:Deux parents. Un seul parent. Plus de deux parents. Des parents séparés. Des familles recomposées. Des parents biologiques\, des mères porteuses\, des donneurs de gamètes.\nLa société évolue\, la loi évolue et le modèle familial change avec elles. Certains s’en réjouissent tandis que d’autres s’en inquiètent. Et les enfants dans tout ça ? \nIntervenants : Anna Zielinska \, maitresse de conférence en philosophie à l’Université de Lorraine\, Irène Théry \, sociologue\, directrice d’études à l’Ehess à Marseille\, Luis Alvarez \, psychiatre et Olivia Barreau \, fondatrice et présidente de l’association M oi & Mes Enfants. \nVoir le programme PDF 2022 du Forum Européen de Bioéthique
URL:https://donsdegametes-solidaires.fr/event/evolution-des-modeles-familiaux/
END:VEVENT
END:VCALENDAR