BEGIN:VCALENDAR
VERSION:2.0
PRODID:-//Dons de gamètes solidaires - ECPv6.15.20//NONSGML v1.0//EN
CALSCALE:GREGORIAN
METHOD:PUBLISH
X-WR-CALNAME:Dons de gamètes solidaires
X-ORIGINAL-URL:https://donsdegametes-solidaires.fr
X-WR-CALDESC:Évènements pour Dons de gamètes solidaires
REFRESH-INTERVAL;VALUE=DURATION:PT1H
X-Robots-Tag:noindex
X-PUBLISHED-TTL:PT1H
BEGIN:VTIMEZONE
TZID:Europe/Paris
BEGIN:DAYLIGHT
TZOFFSETFROM:+0100
TZOFFSETTO:+0200
TZNAME:CEST
DTSTART:20210328T010000
END:DAYLIGHT
BEGIN:STANDARD
TZOFFSETFROM:+0200
TZOFFSETTO:+0100
TZNAME:CET
DTSTART:20211031T010000
END:STANDARD
BEGIN:DAYLIGHT
TZOFFSETFROM:+0100
TZOFFSETTO:+0200
TZNAME:CEST
DTSTART:20220327T010000
END:DAYLIGHT
BEGIN:STANDARD
TZOFFSETFROM:+0200
TZOFFSETTO:+0100
TZNAME:CET
DTSTART:20221030T010000
END:STANDARD
BEGIN:DAYLIGHT
TZOFFSETFROM:+0100
TZOFFSETTO:+0200
TZNAME:CEST
DTSTART:20230326T010000
END:DAYLIGHT
BEGIN:STANDARD
TZOFFSETFROM:+0200
TZOFFSETTO:+0100
TZNAME:CET
DTSTART:20231029T010000
END:STANDARD
END:VTIMEZONE
BEGIN:VEVENT
DTSTART;TZID=Europe/Paris:20220126T150000
DTEND;TZID=Europe/Paris:20220126T180000
DTSTAMP:20260423T102715
CREATED:20220105T124449Z
LAST-MODIFIED:20220105T124449Z
UID:9027-1643209200-1643220000@donsdegametes-solidaires.fr
SUMMARY:La gestation pour autrui (GPA) après la nouvelle loi bioéthique – Regards croisés
DESCRIPTION:La gestation pour autrui (GPA) après la nouvelle loi bioéthique – Regards croisés \nLien : https://isjps.pantheonsorbonne.fr/evenements/gestation-autrui-gpa-apres-nouvelle-loi-bioethique-regards-croises \nLa gestation pour autrui (GPA) après la nouvelle loi bioéthique – Regards croisés \n26 janvier 2022 | 15h-18h \n15h00 : Introduction : La GPA à l’heure de l’internationalisation du droit \nCatherine LE BRIS\, chargée de recherche au CNRS (spécialisée en droit international)\, coresponsable du centre normes\, sciences et techniques (ISJPS) \n15h30 : La GPA et la dignité humaine ou les mésusages de la pensée kantienne \nMarlène JOUAN\, maîtresse de conférences en philosophie\, IPhiG (université Grenoble Alpes)\, chercheuse associée à l’ISJPS \n15h50 : La construction de l’interdiction de la GPA en France  \nThomas PERROUD\, professeur agrégé de droit public\, CERSA (université Paris 2 Panthéon-Assas) \n16h10 : La filiation en France des enfants nés d’une GPA \nLaurence BRUNET\, juriste spécialiste en droit de la famille et de bioéthique\, chercheuse associée à l’ISJPS \n16h30 : Les relations au sein des familles GPA \nSusan GOLOMBOK\, professeure de psychologie\, directrice du centre de recherches familiales (université de Cambridge) \nDébats \nInformations pratiques \nEn visioconférence :\nhttps://zoom.univ-paris1.fr/j/98757616068?pwd=RmtacHVNTm9ESCszcStGVlpwNWJTUT09 (ID de réunion : 987 5761 6068 | Code secret : 642541) \nSur place :\nUniversité Paris 1 Panthéon-Sorbonne\nCentre Lourcine\n1 rue de la Glacière\, 75013 Paris\nBât. 1\, 2e étage\, salle 13 \nInscription avant le 25 janvier 2022 : marina.krivitzky@univ-paris1.fr \nPass sanitaire et document d’identité
URL:https://donsdegametes-solidaires.fr/event/la-gestation-pour-autrui-gpa-apres-la-nouvelle-loi-bioethique-regards-croises/
END:VEVENT
END:VCALENDAR