BEGIN:VCALENDAR
VERSION:2.0
PRODID:-//Dons de gamètes solidaires - ECPv6.15.20//NONSGML v1.0//EN
CALSCALE:GREGORIAN
METHOD:PUBLISH
X-ORIGINAL-URL:https://donsdegametes-solidaires.fr
X-WR-CALDESC:Évènements pour Dons de gamètes solidaires
REFRESH-INTERVAL;VALUE=DURATION:PT1H
X-Robots-Tag:noindex
X-PUBLISHED-TTL:PT1H
BEGIN:VTIMEZONE
TZID:Europe/Paris
BEGIN:DAYLIGHT
TZOFFSETFROM:+0100
TZOFFSETTO:+0200
TZNAME:CEST
DTSTART:20200329T010000
END:DAYLIGHT
BEGIN:STANDARD
TZOFFSETFROM:+0200
TZOFFSETTO:+0100
TZNAME:CET
DTSTART:20201025T010000
END:STANDARD
BEGIN:DAYLIGHT
TZOFFSETFROM:+0100
TZOFFSETTO:+0200
TZNAME:CEST
DTSTART:20210328T010000
END:DAYLIGHT
BEGIN:STANDARD
TZOFFSETFROM:+0200
TZOFFSETTO:+0100
TZNAME:CET
DTSTART:20211031T010000
END:STANDARD
BEGIN:DAYLIGHT
TZOFFSETFROM:+0100
TZOFFSETTO:+0200
TZNAME:CEST
DTSTART:20220327T010000
END:DAYLIGHT
BEGIN:STANDARD
TZOFFSETFROM:+0200
TZOFFSETTO:+0100
TZNAME:CET
DTSTART:20221030T010000
END:STANDARD
END:VTIMEZONE
BEGIN:VEVENT
DTSTART;TZID=Europe/Paris:20211213T183000
DTEND;TZID=Europe/Paris:20211213T203000
DTSTAMP:20260423T121409
CREATED:20211125T090709Z
LAST-MODIFIED:20211126T234717Z
UID:8501-1639420200-1639427400@donsdegametes-solidaires.fr
SUMMARY:Assistance médicale à la procréation : quels changements avec la nouvelle loi de bioéthique ?
DESCRIPTION:CONFÉRENCES\nAssistance médicale à la procréation : quels changements avec la nouvelle loi de bioéthique ?\nDans le cadre de ses conférences citoyennes\, le Centre de recherches juridiques de l’Université Grenoble Alpes organise une rencontre autour de la nouvelle loi de bioéthique. Parue pendant l’été\, cette loi revient sur de nombreuses questions\, notamment l’aide médicale à la procréation. Cette rencontre permettra de faire le point sur les nouvelles dispositions. \nAvec :\nSylviane Hennebicq\, PU-PH\, directrice du laboratoire d’aide à la procréation-CECOS du CHU de Grenoble\, Pascale Hoffmann\, PU-PH gynécologue-obstétricienne CHU de Grenoble\, Anne-Sophie Brun-Wauthier\, maître de conférence en droit UGA/CRJ et Ingrid Maria\, professeure de droit UGA/CRJ. \nSur inscription à crj@univ-grenoble-alpes.fr \n— \nOrganisateur : Centre de recherches juridiques\n0476743246\ncrj@univ-grenoble-alpes.fr\nhttps://crj.univ-grenoble-alpes.fr \nLieu : Maison du Tourisme\n14 Rue de la République\, Grenoble\, France \nTarifs : Gratuit \nPublic : Tout public \nModalités : En présentiel \n \nflyer_conf_loi_bioethique_dec_21 \nLien : https://crj.univ-grenoble-alpes.fr/actualites/assistance-medicale-procreation-quels-changements-nouvelle-loi-bioethique
URL:https://donsdegametes-solidaires.fr/event/assistance-medicale-a-la-procreation-quels-changements-avec-la-nouvelle-loi-de-bioethique/
END:VEVENT
END:VCALENDAR