BEGIN:VCALENDAR
VERSION:2.0
PRODID:-//Dons de gamètes solidaires - ECPv6.15.20//NONSGML v1.0//EN
CALSCALE:GREGORIAN
METHOD:PUBLISH
X-ORIGINAL-URL:https://donsdegametes-solidaires.fr
X-WR-CALDESC:Évènements pour Dons de gamètes solidaires
REFRESH-INTERVAL;VALUE=DURATION:PT1H
X-Robots-Tag:noindex
X-PUBLISHED-TTL:PT1H
BEGIN:VTIMEZONE
TZID:Europe/Paris
BEGIN:DAYLIGHT
TZOFFSETFROM:+0100
TZOFFSETTO:+0200
TZNAME:CEST
DTSTART:20200329T010000
END:DAYLIGHT
BEGIN:STANDARD
TZOFFSETFROM:+0200
TZOFFSETTO:+0100
TZNAME:CET
DTSTART:20201025T010000
END:STANDARD
BEGIN:DAYLIGHT
TZOFFSETFROM:+0100
TZOFFSETTO:+0200
TZNAME:CEST
DTSTART:20210328T010000
END:DAYLIGHT
BEGIN:STANDARD
TZOFFSETFROM:+0200
TZOFFSETTO:+0100
TZNAME:CET
DTSTART:20211031T010000
END:STANDARD
BEGIN:DAYLIGHT
TZOFFSETFROM:+0100
TZOFFSETTO:+0200
TZNAME:CEST
DTSTART:20220327T010000
END:DAYLIGHT
BEGIN:STANDARD
TZOFFSETFROM:+0200
TZOFFSETTO:+0100
TZNAME:CET
DTSTART:20221030T010000
END:STANDARD
END:VTIMEZONE
BEGIN:VEVENT
DTSTART;TZID=Europe/Paris:20211210T150000
DTEND;TZID=Europe/Paris:20211210T170000
DTSTAMP:20260423T121410
CREATED:20211029T213459Z
LAST-MODIFIED:20211030T134803Z
UID:8288-1639148400-1639155600@donsdegametes-solidaires.fr
SUMMARY:Nouvelle loi de bioéthique : la recherche d'un équilibre ou le coup de force ?
DESCRIPTION:Adoptée après de longues années de préparation et de discussion mais sans parvenir à générer un consensus entre les deux assemblées\, la nouvelle loi de bioéthique est parue sans grand écho dans la presse pendant l’été\, alors que le pays traverse une crise sanitaire et connaît un régime d’exception. À l’analyse\, le nouveau texte affiche la volonté de tenir ensemble des éléments possiblement contradictoires: assouplissement des règles encadrant la recherche ou la procréation artificielle sans remettre en question les principes antérieurement établis; promotion de la solidarité sans attenter à l’autonomie individuelle ou à la dignité; soutien à la diffusion des innovations tout en contrôlant davantage certains usages. Dès lors\, l’équilibre souhaité est-il atteint? S’agit-il\, à certains égards\, d’un coup de force autant sur le fond que sur la forme? Dans ce cadre\, les dispositions sont elles convaincantes\, adaptées et aisées à mettre en oeuvre? \nOrganisé sous un format de discussion ouverte\, le webinaire proposera des éléments de réponse grâce à la participation de Marie-Angèle Hermitte\, Laurie Marguet et Anne Gilson-Maes et avec l’animation de Margo Bernelin et Sonia Desmoulin. \nLien : https://webikeo.fr/webinar/nouvelle-loi-de-bioethique-la-recherche-d-un-equilibre-ou-le-coup-de-force-2
URL:https://donsdegametes-solidaires.fr/event/nouvelle-loi-de-bioethique-la-recherche-dun-equilibre-ou-le-coup-de-force/
END:VEVENT
END:VCALENDAR