BEGIN:VCALENDAR
VERSION:2.0
PRODID:-//Dons de gamètes solidaires - ECPv6.15.20//NONSGML v1.0//EN
CALSCALE:GREGORIAN
METHOD:PUBLISH
X-WR-CALNAME:Dons de gamètes solidaires
X-ORIGINAL-URL:https://donsdegametes-solidaires.fr
X-WR-CALDESC:Évènements pour Dons de gamètes solidaires
REFRESH-INTERVAL;VALUE=DURATION:PT1H
X-Robots-Tag:noindex
X-PUBLISHED-TTL:PT1H
BEGIN:VTIMEZONE
TZID:Europe/Paris
BEGIN:DAYLIGHT
TZOFFSETFROM:+0100
TZOFFSETTO:+0200
TZNAME:CEST
DTSTART:20200329T010000
END:DAYLIGHT
BEGIN:STANDARD
TZOFFSETFROM:+0200
TZOFFSETTO:+0100
TZNAME:CET
DTSTART:20201025T010000
END:STANDARD
BEGIN:DAYLIGHT
TZOFFSETFROM:+0100
TZOFFSETTO:+0200
TZNAME:CEST
DTSTART:20210328T010000
END:DAYLIGHT
BEGIN:STANDARD
TZOFFSETFROM:+0200
TZOFFSETTO:+0100
TZNAME:CET
DTSTART:20211031T010000
END:STANDARD
BEGIN:DAYLIGHT
TZOFFSETFROM:+0100
TZOFFSETTO:+0200
TZNAME:CEST
DTSTART:20220327T010000
END:DAYLIGHT
BEGIN:STANDARD
TZOFFSETFROM:+0200
TZOFFSETTO:+0100
TZNAME:CET
DTSTART:20221030T010000
END:STANDARD
END:VTIMEZONE
BEGIN:VEVENT
DTSTART;TZID=Europe/Paris:20211202T180000
DTEND;TZID=Europe/Paris:20211202T190000
DTSTAMP:20260423T120702
CREATED:20211126T234305Z
LAST-MODIFIED:20211126T234342Z
UID:8556-1638468000-1638471600@donsdegametes-solidaires.fr
SUMMARY:Conférence : loi de bioéthique et nouveaux modes de vie
DESCRIPTION:Notre pays est particulièrement attaché aux grands principes de la bioéthique\, comme en témoignent les débats qui ont animé le Parlement depuis 2020 et qui ont débouché sur la loi du 2 août 2021. Une loi majeure puisqu’elle met notamment en place\, en matière de procréation\, un nouveau modèle de famille. \nLe Professeur Claudine Bergoignan-Esper\, membre de l’Académie nationale de médecine et présidente du comité « Éthique et cancer »\, exposera les principales dispositions de la loi. \nEn partenariat avec la Société des membres de la Légion d’honneur \nJeudi 2 décembre à 18h\nMairie du 6e arrondissement de Paris\nSalle des Fêtes \nEntrée sur présentation d’un passe sanitaire.\nPort du masque obligatoire. \nLien : https://mairie06.paris.fr/pages/conference-loi-de-bioethique-et-nouveaux-modes-de-vie-jeudi-2-decembre-a-18h-19729
URL:https://donsdegametes-solidaires.fr/event/conference-loi-de-bioethique-et-nouveaux-modes-de-vie/
END:VEVENT
END:VCALENDAR