BEGIN:VCALENDAR
VERSION:2.0
PRODID:-//Dons de gamètes solidaires - ECPv6.15.20//NONSGML v1.0//EN
CALSCALE:GREGORIAN
METHOD:PUBLISH
X-WR-CALNAME:Dons de gamètes solidaires
X-ORIGINAL-URL:https://donsdegametes-solidaires.fr
X-WR-CALDESC:Évènements pour Dons de gamètes solidaires
REFRESH-INTERVAL;VALUE=DURATION:PT1H
X-Robots-Tag:noindex
X-PUBLISHED-TTL:PT1H
BEGIN:VTIMEZONE
TZID:Europe/Paris
BEGIN:DAYLIGHT
TZOFFSETFROM:+0100
TZOFFSETTO:+0200
TZNAME:CEST
DTSTART:20200329T010000
END:DAYLIGHT
BEGIN:STANDARD
TZOFFSETFROM:+0200
TZOFFSETTO:+0100
TZNAME:CET
DTSTART:20201025T010000
END:STANDARD
BEGIN:DAYLIGHT
TZOFFSETFROM:+0100
TZOFFSETTO:+0200
TZNAME:CEST
DTSTART:20210328T010000
END:DAYLIGHT
BEGIN:STANDARD
TZOFFSETFROM:+0200
TZOFFSETTO:+0100
TZNAME:CET
DTSTART:20211031T010000
END:STANDARD
BEGIN:DAYLIGHT
TZOFFSETFROM:+0100
TZOFFSETTO:+0200
TZNAME:CEST
DTSTART:20220327T010000
END:DAYLIGHT
BEGIN:STANDARD
TZOFFSETFROM:+0200
TZOFFSETTO:+0100
TZNAME:CET
DTSTART:20221030T010000
END:STANDARD
END:VTIMEZONE
BEGIN:VEVENT
DTSTART;TZID=Europe/Paris:20211201T090000
DTEND;TZID=Europe/Paris:20211201T170000
DTSTAMP:20260423T120630
CREATED:20211028T204404Z
LAST-MODIFIED:20211030T135208Z
UID:8280-1638349200-1638378000@donsdegametes-solidaires.fr
SUMMARY:Apports et angles morts de la révision de la loi de bioéthique en termes de droits fondamentaux
DESCRIPTION:Lien : https://lbdf.sciencesconf.org \nTélécharger le programme au format PDF \n\n \nLa loi de bioéthique du 2 août 2021 constitue la quatrième révision des lois relatives à la bioéthique adoptées en 1994. Il s’agit à la fois d’une actualité juridique importante et d’un des domaines d’expertise historique de l’Institut de l’Ouest : Droit et Europe (IODE). À travers cette journée de colloque\, il est proposé d’étudier les principales dispositions du texte au prisme des droits des personnes. L’accent est ainsi mis sur les dispositions de la Loi du 2 août 2021 relative à la bioéthique qui ne relèvent pas tant des progrès des sciences biomédicales que de l’évolution de la société. Tel est le cas de : – l’ouverture de droits reproductifs aux femmes avec la possibilité de recourir à l’autoconservation ovocytaire et l’extension de l’AMP avec tiers donneur aux couples de femmes et aux femmes seules\, – l’encadrement des conséquences en termes de filiation pour les couples de femmes ayant eu recours à l’AMP – la reconnaissance en droit français d’un droit d’accès aux origines pour les personnes conçues par don de gamètes – ou encore du dispositif de prise en charge des enfants présentant une variation du développement génital. Ces dispositions seront analysées dans une perspective historique\, critique et pratique : il s’agit de retracer les apports de la loi de bioéthique du 2 août 2021 par rapport à l’état du droit antérieur mais aussi d’en souligner les implications pratiques ainsi que les limites. Pour étayer ces analyses\, des témoignages illustrant les enjeux des dispositifs juridiques présentés seront diffusés.
URL:https://donsdegametes-solidaires.fr/event/apports-et-angles-morts-de-la-revision-de-la-loi-de-bioethique-en-termes-de-droits-fondamentaux/
END:VEVENT
BEGIN:VEVENT
DTSTART;TZID=Europe/Paris:20211201T140000
DTEND;TZID=Europe/Paris:20211201T163000
DTSTAMP:20260423T120630
CREATED:20211122T225555Z
LAST-MODIFIED:20211123T204522Z
UID:8420-1638367200-1638376200@donsdegametes-solidaires.fr
SUMMARY:Séminaire - La « procréation médicalement assistée (PMA) pour toutes » – Regards croisés
DESCRIPTION:1er décembre 2021 | 14h30-16h30  \n14h30 :\nMot d’accueil Catherine LE BRIS\, chargée de recherche au CNRS (spécialisée en droit  international)\, coresponsable du centre normes\, sciences et techniques  (ISJPS)  \n14h40 :\nLa « PMA pour toutes » : quelles filiations ? Elsa SUPIOT\, maître de conférences en droit privé\, coresponsable du centre normes\, sciences et techniques (ISJPS) \n15h00 :\nLa « PMA pour toutes » : un risque de pénurie de gamètes ? Marie-Xavière CATTO\, maîtresse de conférences en droit public\, ISJPS \n15h20 :\nLa « PMA pour toutes » : quels droits pour la veuve ? Maxime LEI\, docteur en droit public\, enseignant-chercheur à Lab-LEX (université Bretagne-Sud)  \n15h40 :\nLa « PMA pour toutes » : quelles conséquences pour les relations au sein de la famille ? Susan GOLOMBOK\, professeure de psychologie\, directrice du centre de recherches familiales (université de Cambridge)  \nDébats  \nInformations pratiques  \nSur place :\nUniversité Paris 1 Panthéon-Sorbonne\nCentre Lourcine\, 1 rue de la Glacière\, 75013 Paris Bât. 1\, 2e étage\, salle 13\nInscription avant le 30 novembre 2021 : marina.krivitzky@univ-paris1.fr \nPass sanitaire et document d’identité\nEn visioconférence – Lien zoom : https://zoom.univ-paris1.fr/j/91320759348?pwd=S3JKeTcvd0Y3RFJPM3p5M3BjWUNtZz09 \nLien : https://isjps.pantheonsorbonne.fr/evenements/procreation-medicalement-assistee-pma-toutes-regards-croises
URL:https://donsdegametes-solidaires.fr/event/seminaire-la-procreation-medicalement-assistee-pma-pour-toutes-regards-croises/
END:VEVENT
END:VCALENDAR