BEGIN:VCALENDAR
VERSION:2.0
PRODID:-//Dons de gamètes solidaires - ECPv6.15.20//NONSGML v1.0//EN
CALSCALE:GREGORIAN
METHOD:PUBLISH
X-ORIGINAL-URL:https://donsdegametes-solidaires.fr
X-WR-CALDESC:Évènements pour Dons de gamètes solidaires
REFRESH-INTERVAL;VALUE=DURATION:PT1H
X-Robots-Tag:noindex
X-PUBLISHED-TTL:PT1H
BEGIN:VTIMEZONE
TZID:Europe/Paris
BEGIN:DAYLIGHT
TZOFFSETFROM:+0100
TZOFFSETTO:+0200
TZNAME:CEST
DTSTART:20200329T010000
END:DAYLIGHT
BEGIN:STANDARD
TZOFFSETFROM:+0200
TZOFFSETTO:+0100
TZNAME:CET
DTSTART:20201025T010000
END:STANDARD
BEGIN:DAYLIGHT
TZOFFSETFROM:+0100
TZOFFSETTO:+0200
TZNAME:CEST
DTSTART:20210328T010000
END:DAYLIGHT
BEGIN:STANDARD
TZOFFSETFROM:+0200
TZOFFSETTO:+0100
TZNAME:CET
DTSTART:20211031T010000
END:STANDARD
BEGIN:DAYLIGHT
TZOFFSETFROM:+0100
TZOFFSETTO:+0200
TZNAME:CEST
DTSTART:20220327T010000
END:DAYLIGHT
BEGIN:STANDARD
TZOFFSETFROM:+0200
TZOFFSETTO:+0100
TZNAME:CET
DTSTART:20221030T010000
END:STANDARD
END:VTIMEZONE
BEGIN:VEVENT
DTSTART;TZID=Europe/Paris:20211105T190000
DTEND;TZID=Europe/Paris:20211105T210000
DTSTAMP:20260423T135804
CREATED:20211015T112106Z
LAST-MODIFIED:20211108T230423Z
UID:8223-1636138800-1636146000@donsdegametes-solidaires.fr
SUMMARY:Le don de gamètes en question. Devenir parents\, donner ses gamètes\, naître et grandir grâce à un don de gamètes.
DESCRIPTION:Conférence du 5 novembre à 19h : Le don de gamètes en question. Devenir parents\, donner ses gamètes\, naître et grandir grâce à un don de gamètes. \n \nLien  https://bamp.fr/2021/10/15/semaine-de-sensibilisation-a-linfertilite-2021-le-programme/
URL:https://donsdegametes-solidaires.fr/event/le-don-de-gametes-en-question-devenir-parents-donner-ses-gametes-naitre-et-grandir-grace-a-un-don-de-gametes/
END:VEVENT
END:VCALENDAR