BEGIN:VCALENDAR
VERSION:2.0
PRODID:-//Dons de gamètes solidaires - ECPv6.15.20//NONSGML v1.0//EN
CALSCALE:GREGORIAN
METHOD:PUBLISH
X-ORIGINAL-URL:https://donsdegametes-solidaires.fr
X-WR-CALDESC:Évènements pour Dons de gamètes solidaires
REFRESH-INTERVAL;VALUE=DURATION:PT1H
X-Robots-Tag:noindex
X-PUBLISHED-TTL:PT1H
BEGIN:VTIMEZONE
TZID:Europe/Paris
BEGIN:DAYLIGHT
TZOFFSETFROM:+0100
TZOFFSETTO:+0200
TZNAME:CEST
DTSTART:20190331T010000
END:DAYLIGHT
BEGIN:STANDARD
TZOFFSETFROM:+0200
TZOFFSETTO:+0100
TZNAME:CET
DTSTART:20191027T010000
END:STANDARD
BEGIN:DAYLIGHT
TZOFFSETFROM:+0100
TZOFFSETTO:+0200
TZNAME:CEST
DTSTART:20200329T010000
END:DAYLIGHT
BEGIN:STANDARD
TZOFFSETFROM:+0200
TZOFFSETTO:+0100
TZNAME:CET
DTSTART:20201025T010000
END:STANDARD
BEGIN:DAYLIGHT
TZOFFSETFROM:+0100
TZOFFSETTO:+0200
TZNAME:CEST
DTSTART:20210328T010000
END:DAYLIGHT
BEGIN:STANDARD
TZOFFSETFROM:+0200
TZOFFSETTO:+0100
TZNAME:CET
DTSTART:20211031T010000
END:STANDARD
END:VTIMEZONE
BEGIN:VEVENT
DTSTART;TZID=Europe/Paris:20201204T140000
DTEND;TZID=Europe/Paris:20201204T160000
DTSTAMP:20260424T102054
CREATED:20201030T153947Z
LAST-MODIFIED:20201030T154015Z
UID:5977-1607090400-1607097600@donsdegametes-solidaires.fr
SUMMARY:Etude DON-DON: Le profil des donneurs et donneuses de gamètes
DESCRIPTION:Nadjet NOURI GENOLHAC & Louis BUJAN\n(Docteur en psychologie\, psychologue CECOS et Groupe d’activité de Médecine de la Reproduction\, et Professeur\, CECOS et Groupe d’activité de Médecine de la Reproduction\, Chef de Pôle Femme-couple-Mère\, Hôpital Paule de Viguier. Membre du Groupe de Recherche en Fertilité Humaine (EA 3694\, Human Fertility Research Group)\, Toulouse\, FRANCE) \nDans le contexte de changement de la loi bioéthique  de juillet 2011\, les principes de recrutement  des donneurs de gamètes ont été modifiés par les nouveaux textes. Malgré le fait que cette loi préserve l’anonymat du don et la gratuité\, elle a apporté une première novation : Le donneur ou la donneuse de gamètes ne sont plus dans l’obligation d’avoir procréé. De plus\, elle prévoit la possibilité pour les donneurs(ses) n’ayant pas procréé de conserver des ovocytes ou des spermatozoïdes à leur bénéfice. Ce changement va probablement être à l’origine d’une nouvelle population de donneurs et donneuses. Ces différents points  suscitent  beaucoup  de  questionnement  dans  les  équipes  médicales  notamment  sur  les  motivations\,  les caractéristiques psychologiques et sociodémographiques des donneurs et donneuses de gamètes. Notre étude tente de répondre à ce questionnement. C’est une approche comparative sur une cohorte de plus de 1000 sujets questionnés : donneurs de spermatozoïdes sans enfant\, donneurs qui sont pères ; donneuses d’ovocytes sans enfant\, donneuses d’ovocytes qui sont mères. Nous  avons  analysé  et  comparé  les  aspects  motivationnels  et  personnels  entre  les  différents  groupes.  Deux questionnaires ont  été  utilisés  lors  de  cette  enquête  :  un  qui  porte  sur  les  motivations\,  les  caractéristiques personnelles et sociodémographiques\, et l’autre sur les traits de la personnalité. \nTélécharger le PDF de présentation
URL:https://donsdegametes-solidaires.fr/event/etude-don-don-le-profil-des-donneurs-et-donneuses-de-gametes/
END:VEVENT
END:VCALENDAR